BEGIN:VCALENDAR
VERSION:2.0
PRODID:-//Plone.org//NONSGML plone.app.event//EN
X-WR-TIMEZONE:Europe/Berlin
BEGIN:VEVENT
SUMMARY:"Kirche im Quartier"
DTSTART;TZID=Europe/Berlin:20260323T100000
DTEND;TZID=Europe/Berlin:20260323T190000
DTSTAMP:20260420T082926Z
UID:c663936e30054debadf8a03d1274e179@www.transara.uni-bonn.de
CATEGORIES:Allgemein,Veranstaltung,Teilprojekt 3,Stefanie Lieb
CREATED:20251218T115456Z
DESCRIPTION:Bei heutigen Transformationen von Kirchengebäuden sind nicht 
 nur Gestalt und Zustand des Bauwerks selbst maßgeblich\, sondern auch das
  Quartier ist ausschlaggebend\, wenn es zu Entscheidungen um Umbau und Neu
 nutzung kommt. Der Begriff der Kirche als Quartiersmittelpunkt rückt wied
 er mehr ins Rampenlicht\, erfordert aber eine weitreichende Zusammenarbeit
  mit weiteren Playern vor Ort. Die diesjährige Tagung widmet sich der Qua
 rtiers-Thematik aus unterschiedlichen Blickwinkeln: Im Workshop-Teil am Vo
 rmittag in der BVB-Gründerkirche in Dortmund wird das Konzept der Neunutz
 ung als Zentrum für soziale Projekte vorgestellt. Im Tagungsteil am Nachm
 ittag in der Akademie werden die theologische und urbanistische Sicht eine
 r sozialräumlichen Verortung des Kirchengebäudes miteinander ins Gesprä
 ch kommen. Schließlich geht es um Strategien der Erinnerungskultur bei au
 fgegebenen Kirchenbauten im Quartier und Möglichkeiten einer Gedenkkultur
 . Das genaue Programm wird Anfang 2026 bekannt gegeben.
LAST-MODIFIED:20251218T115500Z
URL:https://www.transara.uni-bonn.de/de/veranstaltungen_ordner/kirche-im-q
 uartier
END:VEVENT
BEGIN:VTIMEZONE
TZID:Europe/Berlin
X-LIC-LOCATION:Europe/Berlin
BEGIN:STANDARD
DTSTART:20251026T020000
TZNAME:CET
TZOFFSETFROM:+0200
TZOFFSETTO:+0100
END:STANDARD
END:VTIMEZONE
END:VCALENDAR
