BEGIN:VCALENDAR
VERSION:2.0
PRODID:-//Plone.org//NONSGML plone.app.event//EN
X-WR-TIMEZONE:Europe/Berlin
BEGIN:VEVENT
SUMMARY:Kirche nutzen
DTSTART;TZID=Europe/Berlin:20201008T193000
DTSTAMP:20260420T232839Z
UID:e4f1c799da004cf58513079676d2b03a@www.transara.uni-bonn.de
CATEGORIES:Allgemein,Teilprojekt 1
CREATED:20220407T063303Z
DESCRIPTION:Der Sinn für Kirchen als Schwellenorte oder Orte der Selbsttr
 anszendenz ist im Zeitalter der virtuellen Welten keineswegs abhandengekom
 men\, möglicherweise sogar wieder im Wachsen begriffen. Hier liegt eine n
 och viel zu wenig erkannte\, geschweige denn genutzte Chance. Statt sich a
 us den Sakralräumen zurückzuziehen und sie anderen zu überlassen oder s
 ie ganz aufzugeben\, könnten vielmehr deren brach liegende Potenziale gen
 utzt werden. Dass die schwindenden personellen wie finanziellen Kräfte de
 r christlichen Gemeinden allein dazu meistens nicht ausreichen\, steht au
 ßer Frage. Doch gibt es positive Beispiele von Teilumnutzungen und Nutzun
 gsteilungen zu groß gewordener bzw. nicht mehr regelmäßig für den Gott
 esdienst genutzter Kirchenräume. Die "Hybridisierung" der Kirchenräume i
 st zweifellos risikobeladen und erfordert ständige kritische Reflexion\, 
 bietet aber andererseits ungeahnte Möglichkeiten für eine diakonische Pr
 äsenz von Christinnen und Christen in der "Fläche".
LAST-MODIFIED:20230306T184011Z
URL:https://www.transara.uni-bonn.de/de/veranstaltungen_ordner/kirche-nutz
 en
END:VEVENT
BEGIN:VTIMEZONE
TZID:Europe/Berlin
X-LIC-LOCATION:Europe/Berlin
BEGIN:DAYLIGHT
DTSTART:20200329T030000
TZNAME:CEST
TZOFFSETFROM:+0100
TZOFFSETTO:+0200
END:DAYLIGHT
END:VTIMEZONE
END:VCALENDAR
