BEGIN:VCALENDAR
VERSION:2.0
PRODID:-//Plone.org//NONSGML plone.app.event//EN
X-WR-TIMEZONE:Europe/Berlin
BEGIN:VEVENT
SUMMARY:Synagoge - Kirche - Tempel
DTSTART;TZID=Europe/Berlin:20221127T180000
DTSTAMP:20260423T015019Z
UID:c67f6fa9836241c6a5f5b083f82f2f7b@www.transara.uni-bonn.de
CATEGORIES:Allgemein,Teilprojekt 1,Veranstaltung
CREATED:20221027T201924Z
DESCRIPTION:Erinnerung\, Verdrängung und Vergegenwärtigung in christlich
 en Sakralbauten\n\nNach der Ausweisung der Juden aus Köln wird die Synago
 ge 1425 zur Ratskapelle umgebaut und erhält den Namen „St. Maria in Jer
 usalem“. Stefan Lochners Altarbild der Stadtpatrone in dieser Kapelle st
 eht heute im Dom. In ihm erscheint der Vorhang des Tempels angesichts der 
 Geburt des Messias Jesus demonstrativ aufgerissen. Ist diese Kölner Gesch
 ichte von Verdrängung\, Vereinnahmung und Entwertung beispielhaft für da
 s Verhältnis christlicher Sakralbauten zum Judentum? Welche Raumkonzepte 
 der Erinnerung\, Vergegenwärtigung und Verdrängung lassen sich in histor
 ischen Kirchbauten\, aber auch im zeitgenössischen Kirch- und Sakralbau a
 ufspüren und dekonstruieren? Helfen die Ergebnisse im Dialog von Juden un
 d Christen\, um ihre Unterschieden- und Verbundenheit angemessen im liturg
 ischen Raum zu gestalten?
LAST-MODIFIED:20230306T184012Z
URL:https://www.transara.uni-bonn.de/de/veranstaltungen_ordner/synagoge-ki
 rche-tempel
END:VEVENT
BEGIN:VTIMEZONE
TZID:Europe/Berlin
X-LIC-LOCATION:Europe/Berlin
BEGIN:STANDARD
DTSTART:20221030T020000
TZNAME:CET
TZOFFSETFROM:+0200
TZOFFSETTO:+0100
END:STANDARD
END:VTIMEZONE
END:VCALENDAR
